BEGIN:VCALENDAR
VERSION:2.0
PRODID:-//Parmelee Farm - ECPv6.15.20//NONSGML v1.0//EN
CALSCALE:GREGORIAN
METHOD:PUBLISH
X-ORIGINAL-URL:https://parmeleefarm.org
X-WR-CALDESC:Events for Parmelee Farm
REFRESH-INTERVAL;VALUE=DURATION:PT1H
X-Robots-Tag:noindex
X-PUBLISHED-TTL:PT1H
BEGIN:VTIMEZONE
TZID:America/New_York
BEGIN:DAYLIGHT
TZOFFSETFROM:-0500
TZOFFSETTO:-0400
TZNAME:EDT
DTSTART:20150308T070000
END:DAYLIGHT
BEGIN:STANDARD
TZOFFSETFROM:-0400
TZOFFSETTO:-0500
TZNAME:EST
DTSTART:20151101T060000
END:STANDARD
BEGIN:DAYLIGHT
TZOFFSETFROM:-0500
TZOFFSETTO:-0400
TZNAME:EDT
DTSTART:20160313T070000
END:DAYLIGHT
BEGIN:STANDARD
TZOFFSETFROM:-0400
TZOFFSETTO:-0500
TZNAME:EST
DTSTART:20161106T060000
END:STANDARD
BEGIN:DAYLIGHT
TZOFFSETFROM:-0500
TZOFFSETTO:-0400
TZNAME:EDT
DTSTART:20170312T070000
END:DAYLIGHT
BEGIN:STANDARD
TZOFFSETFROM:-0400
TZOFFSETTO:-0500
TZNAME:EST
DTSTART:20171105T060000
END:STANDARD
END:VTIMEZONE
BEGIN:VEVENT
DTSTART;TZID=America/New_York:20160813T100000
DTEND;TZID=America/New_York:20160813T130000
DTSTAMP:20260424T202809
CREATED:20151206T171644Z
LAST-MODIFIED:20151206T171644Z
UID:2102-1471082400-1471093200@parmeleefarm.org
SUMMARY:August Farmer's Market
DESCRIPTION:
URL:https://parmeleefarm.org/event/august-farmers-market/
CATEGORIES:Farmers Market
END:VEVENT
BEGIN:VEVENT
DTSTART;TZID=America/New_York:20160709T100000
DTEND;TZID=America/New_York:20160709T130000
DTSTAMP:20260424T202809
CREATED:20151205T033226Z
LAST-MODIFIED:20151205T033226Z
UID:2031-1468058400-1468069200@parmeleefarm.org
SUMMARY:July Farmer’s Market
DESCRIPTION:July 9\, 2016 @ 10:00 am – 1:00 pm\nParmelee Pavilion
URL:https://parmeleefarm.org/event/july-farmers-market/
CATEGORIES:Farmers Market
END:VEVENT
BEGIN:VEVENT
DTSTART;TZID=America/New_York:20160611T100000
DTEND;TZID=America/New_York:20160611T130000
DTSTAMP:20260424T202809
CREATED:20151129T225758Z
LAST-MODIFIED:20151129T225758Z
UID:1671-1465639200-1465650000@parmeleefarm.org
SUMMARY:June Farmer's Market
DESCRIPTION:
URL:https://parmeleefarm.org/event/june-farm-market/
CATEGORIES:Farmers Market
END:VEVENT
END:VCALENDAR