BEGIN:VCALENDAR
VERSION:2.0
PRODID:-//Parmelee Farm - ECPv6.15.20//NONSGML v1.0//EN
CALSCALE:GREGORIAN
METHOD:PUBLISH
X-WR-CALNAME:Parmelee Farm
X-ORIGINAL-URL:https://parmeleefarm.org
X-WR-CALDESC:Events for Parmelee Farm
REFRESH-INTERVAL;VALUE=DURATION:PT1H
X-Robots-Tag:noindex
X-PUBLISHED-TTL:PT1H
BEGIN:VTIMEZONE
TZID:America/New_York
BEGIN:DAYLIGHT
TZOFFSETFROM:-0500
TZOFFSETTO:-0400
TZNAME:EDT
DTSTART:20230312T070000
END:DAYLIGHT
BEGIN:STANDARD
TZOFFSETFROM:-0400
TZOFFSETTO:-0500
TZNAME:EST
DTSTART:20231105T060000
END:STANDARD
BEGIN:DAYLIGHT
TZOFFSETFROM:-0500
TZOFFSETTO:-0400
TZNAME:EDT
DTSTART:20240310T070000
END:DAYLIGHT
BEGIN:STANDARD
TZOFFSETFROM:-0400
TZOFFSETTO:-0500
TZNAME:EST
DTSTART:20241103T060000
END:STANDARD
BEGIN:DAYLIGHT
TZOFFSETFROM:-0500
TZOFFSETTO:-0400
TZNAME:EDT
DTSTART:20250309T070000
END:DAYLIGHT
BEGIN:STANDARD
TZOFFSETFROM:-0400
TZOFFSETTO:-0500
TZNAME:EST
DTSTART:20251102T060000
END:STANDARD
BEGIN:DAYLIGHT
TZOFFSETFROM:-0500
TZOFFSETTO:-0400
TZNAME:EDT
DTSTART:20260308T070000
END:DAYLIGHT
BEGIN:STANDARD
TZOFFSETFROM:-0400
TZOFFSETTO:-0500
TZNAME:EST
DTSTART:20261101T060000
END:STANDARD
END:VTIMEZONE
BEGIN:VEVENT
DTSTART;TZID=America/New_York:20251206T150000
DTEND;TZID=America/New_York:20251206T170000
DTSTAMP:20260424T143608
CREATED:20251110T175830Z
LAST-MODIFIED:20251110T175830Z
UID:3512-1765033200-1765040400@parmeleefarm.org
SUMMARY:Christmas at the Farm
DESCRIPTION:
URL:https://parmeleefarm.org/event/christmas-at-the-farm-6/
LOCATION:Pavilion
CATEGORIES:Public Event
END:VEVENT
BEGIN:VEVENT
DTSTART;TZID=America/New_York:20251206T083000
DTEND;TZID=America/New_York:20251206T150000
DTSTAMP:20260424T143608
CREATED:20251006T203400Z
LAST-MODIFIED:20251006T203420Z
UID:3505-1765009800-1765033200@parmeleefarm.org
SUMMARY:Historical Society Christmas Fair
DESCRIPTION:There will be lots of handmade items crafted by our members\, including live arrangements\, baked goods\, holiday decor\, gift items\, knitted accessories\, and more!  All proceeds go towards maintaining our properties and providing programs for members. RAIN OR SHINE
URL:https://parmeleefarm.org/event/historical-society-christmas-fair-7/
LOCATION:Farmhouse
CATEGORIES:Historical Society
ORGANIZER;CN="Killingworth Historical Society":MAILTO:killingworthhs@gmail.com
END:VEVENT
BEGIN:VEVENT
DTSTART;TZID=America/New_York:20251025T120000
DTEND;TZID=America/New_York:20251025T150000
DTSTAMP:20260424T143608
CREATED:20250810T151529Z
LAST-MODIFIED:20250810T151529Z
UID:3501-1761393600-1761404400@parmeleefarm.org
SUMMARY:Pumpkin Carving Party
DESCRIPTION:
URL:https://parmeleefarm.org/event/pumpkin-carving-party-2/
CATEGORIES:Public Event
END:VEVENT
BEGIN:VEVENT
DTSTART;VALUE=DATE:20251011
DTEND;VALUE=DATE:20251012
DTSTAMP:20260424T143608
CREATED:20250810T151443Z
LAST-MODIFIED:20250810T151443Z
UID:3499-1760140800-1760227199@parmeleefarm.org
SUMMARY:Private Event
DESCRIPTION:
URL:https://parmeleefarm.org/event/private-event-98/
CATEGORIES:Private Event
END:VEVENT
BEGIN:VEVENT
DTSTART;VALUE=DATE:20251007
DTEND;VALUE=DATE:20251008
DTSTAMP:20260424T143608
CREATED:20251006T203716Z
LAST-MODIFIED:20251006T203716Z
UID:3508-1759795200-1759881599@parmeleefarm.org
SUMMARY:Historical Society / KES 2nd Grade Event
DESCRIPTION:
URL:https://parmeleefarm.org/event/historical-society-kes-2nd-grade-event/
LOCATION:Farmhouse
CATEGORIES:Historical Society
ORGANIZER;CN="Killingworth Historical Society":MAILTO:killingworthhs@gmail.com
END:VEVENT
BEGIN:VEVENT
DTSTART;VALUE=DATE:20251004
DTEND;VALUE=DATE:20251005
DTSTAMP:20260424T143608
CREATED:20250228T205523Z
LAST-MODIFIED:20250424T123627Z
UID:3446-1759536000-1759622399@parmeleefarm.org
SUMMARY:Private Event
DESCRIPTION:
URL:https://parmeleefarm.org/event/private-event-94/
LOCATION:Pavilion
CATEGORIES:Private Event
END:VEVENT
BEGIN:VEVENT
DTSTART;TZID=America/New_York:20250914T150000
DTEND;TZID=America/New_York:20250914T190000
DTSTAMP:20260424T143608
CREATED:20250810T151358Z
LAST-MODIFIED:20250810T151358Z
UID:3497-1757862000-1757876400@parmeleefarm.org
SUMMARY:Concert and car cruise - Band - Soundwaves
DESCRIPTION:
URL:https://parmeleefarm.org/event/concert-and-car-cruise-band-soundwaves/
LOCATION:Pavilion
CATEGORIES:Public Event
END:VEVENT
BEGIN:VEVENT
DTSTART;TZID=America/New_York:20250906T100000
DTEND;TZID=America/New_York:20250906T150000
DTSTAMP:20260424T143608
CREATED:20250228T205342Z
LAST-MODIFIED:20250424T123643Z
UID:3444-1757152800-1757170800@parmeleefarm.org
SUMMARY:Artisan Fair
DESCRIPTION:
URL:https://parmeleefarm.org/event/artisan-fair/
CATEGORIES:Farmers Market
ORGANIZER;CN="Artisan Market":MAILTO:manager@parmeleefarmmarket.org
END:VEVENT
BEGIN:VEVENT
DTSTART;VALUE=DATE:20250830
DTEND;VALUE=DATE:20250831
DTSTAMP:20260424T143608
CREATED:20250228T205246Z
LAST-MODIFIED:20250424T123656Z
UID:3442-1756512000-1756598399@parmeleefarm.org
SUMMARY:Private Event
DESCRIPTION:
URL:https://parmeleefarm.org/event/private-event-93/
LOCATION:Pavilion
CATEGORIES:Private Event
END:VEVENT
BEGIN:VEVENT
DTSTART;TZID=America/New_York:20250815T200000
DTEND;TZID=America/New_York:20250815T220000
DTSTAMP:20260424T143608
CREATED:20250810T151244Z
LAST-MODIFIED:20250810T151244Z
UID:3495-1755288000-1755295200@parmeleefarm.org
SUMMARY:Family Movie Night
DESCRIPTION:Bring a blanket\, lawn chairs\, and your loved ones for a magical evening under the stars! Enjoy free popcorn and quality time with family\, friends\, and neighbors at beautiful Parmelee Farm. It’s the perfect way to relax\, connect\, and enjoy a fun summer night with the community.\nAdmission is free – all are welcome!
URL:https://parmeleefarm.org/event/family-movie-night/
LOCATION:Pavilion
CATEGORIES:HKYFS
ORGANIZER;CN="Youth and Family Services":MAILTO:info@hkyfs.org
END:VEVENT
BEGIN:VEVENT
DTSTART;TZID=America/New_York:20250810T150000
DTEND;TZID=America/New_York:20250810T190000
DTSTAMP:20260424T143608
CREATED:20250810T151035Z
LAST-MODIFIED:20250810T151035Z
UID:3493-1754838000-1754852400@parmeleefarm.org
SUMMARY:Concert and car cruise - Band - The Meadows Brothers
DESCRIPTION:
URL:https://parmeleefarm.org/event/concert-and-car-cruise-band-the-meadows-brothers/
LOCATION:Pavilion
END:VEVENT
BEGIN:VEVENT
DTSTART;VALUE=DATE:20250727
DTEND;VALUE=DATE:20250728
DTSTAMP:20260424T143608
CREATED:20250512T154123Z
LAST-MODIFIED:20250512T154123Z
UID:3481-1753574400-1753660799@parmeleefarm.org
SUMMARY:Private Event
DESCRIPTION:
URL:https://parmeleefarm.org/event/private-event-97/
LOCATION:Pavilion
CATEGORIES:Private Event
END:VEVENT
BEGIN:VEVENT
DTSTART;VALUE=DATE:20250727
DTEND;VALUE=DATE:20250728
DTSTAMP:20260424T143608
CREATED:20250228T205202Z
LAST-MODIFIED:20250228T205202Z
UID:3440-1753574400-1753660799@parmeleefarm.org
SUMMARY:Private Event
DESCRIPTION:
URL:https://parmeleefarm.org/event/private-event-92/
LOCATION:Pavilion
CATEGORIES:Private Event
END:VEVENT
BEGIN:VEVENT
DTSTART;TZID=America/New_York:20250720T170000
DTEND;TZID=America/New_York:20250720T183000
DTSTAMP:20260424T143608
CREATED:20250512T154017Z
LAST-MODIFIED:20250512T154017Z
UID:3479-1753030800-1753036200@parmeleefarm.org
SUMMARY:Free Coast Guard Concert
DESCRIPTION:
URL:https://parmeleefarm.org/event/free-coast-guard-concert/
LOCATION:Pavilion
CATEGORIES:Public Event
END:VEVENT
BEGIN:VEVENT
DTSTART;TZID=America/New_York:20250713T150000
DTEND;TZID=America/New_York:20250713T190000
DTSTAMP:20260424T143608
CREATED:20250228T205135Z
LAST-MODIFIED:20250708T233248Z
UID:3438-1752418800-1752433200@parmeleefarm.org
SUMMARY:Free Concert & Car Cruise
DESCRIPTION:
URL:https://parmeleefarm.org/event/free-concert-car-cruise-2/
CATEGORIES:Public Event
END:VEVENT
BEGIN:VEVENT
DTSTART;VALUE=DATE:20250628
DTEND;VALUE=DATE:20250629
DTSTAMP:20260424T143608
CREATED:20250228T205032Z
LAST-MODIFIED:20250613T141945Z
UID:3436-1751068800-1751155199@parmeleefarm.org
SUMMARY:Private Event
DESCRIPTION:
URL:https://parmeleefarm.org/event/private-event-91/
LOCATION:Pavilion
CATEGORIES:Private Event
END:VEVENT
BEGIN:VEVENT
DTSTART;TZID=America/New_York:20250627T170000
DTEND;TZID=America/New_York:20250627T220000
DTSTAMP:20260424T143608
CREATED:20250512T153847Z
LAST-MODIFIED:20250512T153847Z
UID:3477-1751043600-1751061600@parmeleefarm.org
SUMMARY:Private Event
DESCRIPTION:
URL:https://parmeleefarm.org/event/private-event-96/
LOCATION:Pavilion
CATEGORIES:Private Event
END:VEVENT
BEGIN:VEVENT
DTSTART;TZID=America/New_York:20250627T170000
DTEND;TZID=America/New_York:20250627T220000
DTSTAMP:20260424T143608
CREATED:20250228T205007Z
LAST-MODIFIED:20250421T113739Z
UID:3434-1751043600-1751061600@parmeleefarm.org
SUMMARY:Private Event
DESCRIPTION:
URL:https://parmeleefarm.org/event/private-event-90/
LOCATION:Pavilion
CATEGORIES:Private Event
END:VEVENT
BEGIN:VEVENT
DTSTART;TZID=America/New_York:20250620T170000
DTEND;TZID=America/New_York:20250620T200000
DTSTAMP:20260424T143608
CREATED:20250512T153742Z
LAST-MODIFIED:20250512T153742Z
UID:3475-1750438800-1750449600@parmeleefarm.org
SUMMARY:Youth & Family Summer Solstice Family Fest
DESCRIPTION:Kick off the start of summer\, Summer Solstice\, and Make Music Day with an EPIC night of family fun! The HKYFS Summer Solstice Family Fest offers something for kids\, families\, and community members of all ages! This is the perfect opportunity for our tweens and teens to come together in a safe and healthy environment full of fun! \nFAMILY OLYMPICS: REGISTRATION REQUIRED 5:00 – 6: 00 pm \nThis fun family “competition” facilitated by Empower Leadership is friendly and suitable for kids ages 5+ and their families. Games inspire laughter\, teamwork\, communication\, and fun! HKYFS is committed to the health and wellness of all HK families\, including opportunities to empower positive communication and problem-solving skills. All participants will receive a custom Summer Solstice Medal! \nREGISTRATION REQUIRED – Please click below to sign your entire family up for either the:\n5:00-5:30 PM Family Olympics Time Slot\nor 5:30-6:00 PM Family Olympics Time Slot \nAnd be sure to  fill out Empower’s Family Olympics  Waiver for Empower’s Family Olympics \nFREE FAMILY ACTIVITY HIGHLIGHTS:  5:00 – 8:00 PM \nFace Painting from our friends at the HKHS Art Honor Society\nHenna by Morgan- Henna designs for all ages with natural/nontoxic temporary dye\nRock Painting\nMini Easel Paintings\nTarot Reading by Lauren- super fun mini readings appropriate for all ages\nTemporary Tattoos\nTeen Craft Table\nYouth Craft Tables\nLawn Games \nHIGHLIGHT BANDS: \nSteve Elci and Friends: 6:00-  6:45 PM\nThis EMMY-nominated award-winning Band brings children’s music to the NEXT LEVEL! Steve’s interactive show bringing positive messages of friendship and peace always gets kids (and adults) on their feet! \nMadison School of Rock:  7:00 – 8:00 PM\nThe School of Rock House Band is a gigging group of youth age 18 and younger. These talented kids showcase their own music and bring a rock sound with plenty of favorites that appeal to all ages! \nFOOD TRUCKS  5:00 – 8:00 PM \nFire in the Kitchen- Wood-fired Pizza\nJames Madison- Open Fire Grilling (burgers\, fries\, sandwiches\, and more)\nIce Cream Emergency
URL:https://parmeleefarm.org/event/youth-family-summer-solstice-family-fest/
CATEGORIES:Public Event
END:VEVENT
BEGIN:VEVENT
DTSTART;TZID=America/New_York:20250615T150000
DTEND;TZID=America/New_York:20250615T190000
DTSTAMP:20260424T143608
CREATED:20250228T204922Z
LAST-MODIFIED:20250512T153407Z
UID:3432-1749999600-1750014000@parmeleefarm.org
SUMMARY:Free Concert & Car Cruise
DESCRIPTION:The Band is Shorebreak
URL:https://parmeleefarm.org/event/free-concert-car-cruise/
CATEGORIES:Public Event
END:VEVENT
BEGIN:VEVENT
DTSTART;TZID=America/New_York:20250601T130000
DTEND;TZID=America/New_York:20250601T150000
DTSTAMP:20260424T143608
CREATED:20250512T152941Z
LAST-MODIFIED:20250512T152941Z
UID:3469-1748782800-1748790000@parmeleefarm.org
SUMMARY:Youth & Family - Kids Run Amuck
DESCRIPTION:Get ready to get muddy! HKYFS and the HKIMS PTO are thrilled to bring back one of our community’s favorite events- Kids Run Amuck! This exciting kids mud run is all about promoting physical activity in the most entertaining way possible. Kids can choose between a shorter or longer course and will be sent out in waves by age group to ensure a safe and fun experience for all.\n\nSpecial thanks to the Middletown Rotary for their sponsorship and the Killingworth Women’s Organization\, Mike’s Auto\, New Image Auto\, Town & Country Nurseries and Haddam & Killingworth Girl Scouts for their partnership!\nRegister Now! https://hkyfs.org/event/kids-run-amuck/
URL:https://parmeleefarm.org/event/youth-family-kids-run-amuck/
ORGANIZER;CN="Youth and Family Services":MAILTO:info@hkyfs.org
END:VEVENT
BEGIN:VEVENT
DTSTART;VALUE=DATE:20250531
DTEND;VALUE=DATE:20250601
DTSTAMP:20260424T143608
CREATED:20250228T204810Z
LAST-MODIFIED:20250322T143314Z
UID:3430-1748649600-1748735999@parmeleefarm.org
SUMMARY:Private Event
DESCRIPTION:
URL:https://parmeleefarm.org/event/private-event-89/
LOCATION:Pavilion
CATEGORIES:Private Event
END:VEVENT
BEGIN:VEVENT
DTSTART;TZID=America/New_York:20250530T170000
DTEND;TZID=America/New_York:20250530T220000
DTSTAMP:20260424T143608
CREATED:20250512T152044Z
LAST-MODIFIED:20250512T153546Z
UID:3467-1748624400-1748642400@parmeleefarm.org
SUMMARY:Free Concert - Victor G. Washington & Sweet Soul Revue
DESCRIPTION:Get ready for an unforgettable night of music\, food\, and community spirit – sponsored by What’s on My Roof to benefit HKYFS. \nFeaturing Victor G. Washington and the Sweet Soul Revue-  a powerhouse Motown anthology performed by voices that have shared the stage with legends like Ronnie Spector\, Johnny Winter\, Matt “Guitar” Murphy\, Eric Clapton\, and more. \nDoors open 5:00 PM with the arrival of several food trucks and the event kicks off at 6:00 PM when special guests Blues on the Rocks takes the stage. Be sure to also check out the raffle with fantastic prizes! \nBring your friends and join us for an evening of live entertainment\, great food\, and community connection\, all while supporting the work of Haddam-Killingworth Youth and Family Services \nInterested in sponsorship opportunities? Contact Eileen Unger 561-389-6861 for more information. \n\n\n\nGates open at 5:00 PM\nParmelee Farm 465 CT-81\, Killingworth\, CT\n\n\nFood Trucks: G-Zen\, Fire In the Kitchen Pizza and Cafe Laurel\n\n\nRaffle!\n\n\nGrab dinner from the fabulous food vendors or bring a picnic\, bring some folding chairs\, a blanket \, put on your dancing shoes and enjoy the authentic sounds of Motown
URL:https://parmeleefarm.org/event/free-concert-victor-g-washington-sweet-soul-revue/
LOCATION:Pavilion
CATEGORIES:Public Event
ORGANIZER;CN="Youth and Family Services":MAILTO:info@hkyfs.org
END:VEVENT
BEGIN:VEVENT
DTSTART;TZID=America/New_York:20250521T180000
DTEND;TZID=America/New_York:20250521T220000
DTSTAMP:20260424T143608
CREATED:20250512T151717Z
LAST-MODIFIED:20250512T151717Z
UID:3465-1747850400-1747864800@parmeleefarm.org
SUMMARY:Lions Night of Giving
DESCRIPTION:
URL:https://parmeleefarm.org/event/lions-night-of-giving/
LOCATION:Pavilion
CATEGORIES:Killingworth Lions Club
END:VEVENT
BEGIN:VEVENT
DTSTART;TZID=America/New_York:20250517T160000
DTEND;TZID=America/New_York:20250517T220000
DTSTAMP:20260424T143609
CREATED:20250512T151624Z
LAST-MODIFIED:20250512T151624Z
UID:3463-1747497600-1747519200@parmeleefarm.org
SUMMARY:Private Event
DESCRIPTION:
URL:https://parmeleefarm.org/event/private-event-95/
LOCATION:Pavilion
CATEGORIES:Private Event
END:VEVENT
BEGIN:VEVENT
DTSTART;TZID=America/New_York:20250516T201500
DTEND;TZID=America/New_York:20250516T220000
DTSTAMP:20260424T143609
CREATED:20250512T153222Z
LAST-MODIFIED:20250512T153222Z
UID:3471-1747426500-1747432800@parmeleefarm.org
SUMMARY:Youth & Family Family Movie Night
DESCRIPTION:The votes are in… and we’re setting sail with Moana 2! Join us for Free Family Movie Night on Friday\, May 16th at beautiful Parmelee Farm!\nBring your blankets\, lawn chairs\, and the whole family for a fun night under the stars. Snacks\, laughter\, and island adventures await!
URL:https://parmeleefarm.org/event/youth-family-family-movie-night/
LOCATION:Pavilion
CATEGORIES:Public Event
ORGANIZER;CN="Youth and Family Services":MAILTO:info@hkyfs.org
END:VEVENT
BEGIN:VEVENT
DTSTART;TZID=America/New_York:20250510T083000
DTEND;TZID=America/New_York:20250510T143000
DTSTAMP:20260424T143609
CREATED:20250114T150010Z
LAST-MODIFIED:20250322T143345Z
UID:3420-1746865800-1746887400@parmeleefarm.org
SUMMARY:Historical Society Tag Sale & Garden Club Sale
DESCRIPTION:
URL:https://parmeleefarm.org/event/historical-society-tag-sale-garden-club-sale/
LOCATION:Farmhouse
CATEGORIES:Historical Society
ORGANIZER;CN="Killingworth Historical Society":MAILTO:killingworthhs@gmail.com
END:VEVENT
BEGIN:VEVENT
DTSTART;TZID=America/New_York:20250412T110000
DTEND;TZID=America/New_York:20250412T120000
DTSTAMP:20260424T143609
CREATED:20250228T204659Z
LAST-MODIFIED:20250424T123548Z
UID:3428-1744455600-1744459200@parmeleefarm.org
SUMMARY:Lions Easter Egg Hunt
DESCRIPTION:
URL:https://parmeleefarm.org/event/lions-easter-egg-hunt-2/
CATEGORIES:Killingworth Lions Club
END:VEVENT
BEGIN:VEVENT
DTSTART;TZID=America/New_York:20241207T140000
DTEND;TZID=America/New_York:20241207T170000
DTSTAMP:20260424T143609
CREATED:20241110T224824Z
LAST-MODIFIED:20241110T224824Z
UID:3412-1733580000-1733590800@parmeleefarm.org
SUMMARY:Christmas at the Farm
DESCRIPTION:
URL:https://parmeleefarm.org/event/christmas-at-the-farm-5/
LOCATION:Pavilion
CATEGORIES:Public Event
END:VEVENT
BEGIN:VEVENT
DTSTART;TZID=America/New_York:20241207T083000
DTEND;TZID=America/New_York:20241207T150000
DTSTAMP:20260424T143609
CREATED:20240328T161605Z
LAST-MODIFIED:20250322T143406Z
UID:3354-1733560200-1733583600@parmeleefarm.org
SUMMARY:Historical Society Christmas Fair
DESCRIPTION:Start your shopping at our Annual Christmas Fair which takes place on December 7\, from 8:30 a.m. to 3:00 p.m. in the Big Red Barn at the Parmelee Farm on Route 81. \nOur fair features a variety of hand-crafted items; fresh arrangements\, unusual ornaments\, centerpieces\, wreaths/swags\, gift baskets\, bagged gifts for children\, handmade hats\, mittens\, and more.  And don’t forget to purchase fresh breads\, cookies\, jams/jellies\, fudge\,  relish\, spicy cheese spread\, plus assorted food gifts baskets. \nShop for your holiday decorations and treats\, choose gifts for everyone on your list and don’t forget to buy something for yourself! \nProceeds from the sale support maintenance of the Historical  Society’s buildings and on-going preservation projects.  Please visit our website\nkillingworthhistorical.org and view some of our archived items online at ct.collections.org.
URL:https://parmeleefarm.org/event/historical-society-christmas-fair-6/
LOCATION:Farmhouse
CATEGORIES:Historical Society
ORGANIZER;CN="Killingworth Historical Society":MAILTO:killingworthhs@gmail.com
END:VEVENT
END:VCALENDAR