BEGIN:VCALENDAR
VERSION:2.0
PRODID:-//Parmelee Farm - ECPv6.15.20//NONSGML v1.0//EN
CALSCALE:GREGORIAN
METHOD:PUBLISH
X-WR-CALNAME:Parmelee Farm
X-ORIGINAL-URL:https://parmeleefarm.org
X-WR-CALDESC:Events for Parmelee Farm
REFRESH-INTERVAL;VALUE=DURATION:PT1H
X-Robots-Tag:noindex
X-PUBLISHED-TTL:PT1H
BEGIN:VTIMEZONE
TZID:America/New_York
BEGIN:DAYLIGHT
TZOFFSETFROM:-0500
TZOFFSETTO:-0400
TZNAME:EDT
DTSTART:20220313T070000
END:DAYLIGHT
BEGIN:STANDARD
TZOFFSETFROM:-0400
TZOFFSETTO:-0500
TZNAME:EST
DTSTART:20221106T060000
END:STANDARD
BEGIN:DAYLIGHT
TZOFFSETFROM:-0500
TZOFFSETTO:-0400
TZNAME:EDT
DTSTART:20230312T070000
END:DAYLIGHT
BEGIN:STANDARD
TZOFFSETFROM:-0400
TZOFFSETTO:-0500
TZNAME:EST
DTSTART:20231105T060000
END:STANDARD
BEGIN:DAYLIGHT
TZOFFSETFROM:-0500
TZOFFSETTO:-0400
TZNAME:EDT
DTSTART:20240310T070000
END:DAYLIGHT
BEGIN:STANDARD
TZOFFSETFROM:-0400
TZOFFSETTO:-0500
TZNAME:EST
DTSTART:20241103T060000
END:STANDARD
BEGIN:DAYLIGHT
TZOFFSETFROM:-0500
TZOFFSETTO:-0400
TZNAME:EDT
DTSTART:20250309T070000
END:DAYLIGHT
BEGIN:STANDARD
TZOFFSETFROM:-0400
TZOFFSETTO:-0500
TZNAME:EST
DTSTART:20251102T060000
END:STANDARD
END:VTIMEZONE
BEGIN:VEVENT
DTSTART;TZID=America/New_York:20240721T170000
DTEND;TZID=America/New_York:20240721T190000
DTSTAMP:20260424T220233
CREATED:20240328T160833Z
LAST-MODIFIED:20240531T120933Z
UID:3339-1721581200-1721588400@parmeleefarm.org
SUMMARY:Coast Guard Band Concert
DESCRIPTION:The Coast Guard Band  -Lions Free Concert -pavilion – (Big band)
URL:https://parmeleefarm.org/event/coast-guard-band-concert/
LOCATION:Pavilion
CATEGORIES:Killingworth Lions Club
END:VEVENT
BEGIN:VEVENT
DTSTART;TZID=America/New_York:20240719T190000
DTEND;TZID=America/New_York:20240719T203000
DTSTAMP:20260424T220233
CREATED:20240328T160423Z
LAST-MODIFIED:20240531T120902Z
UID:3333-1721415600-1721421000@parmeleefarm.org
SUMMARY:HK Park and Rec Free Concert
DESCRIPTION:7-8:30 pm – Park & Rec. Concert  pavilion – The Berkshires (band) Rock\, Funk\, Blues\, Reggae
URL:https://parmeleefarm.org/event/hk-park-and-rec-free-concert/
LOCATION:Pavilion
CATEGORIES:HK Rec Summer Concerts
ORGANIZER;CN="HK Park and Recreation":MAILTO:robyne@hkrec.com
END:VEVENT
BEGIN:VEVENT
DTSTART;TZID=America/New_York:20240714T030000
DTEND;TZID=America/New_York:20240714T190000
DTSTAMP:20260424T220233
CREATED:20240519T175734Z
LAST-MODIFIED:20240531T120824Z
UID:3362-1720926000-1720983600@parmeleefarm.org
SUMMARY:Free Summer Concert & Car Cruise
DESCRIPTION:3-5 pm – Car & Truck Cruise (Front lawn of Farm)\n5-7 pm – Free Concert – (pavilion) Duet Concert (Violin & Cello) – Millie & Randy Calistri-Yeh (Synergismus)
URL:https://parmeleefarm.org/event/free-summer-concert-car-cruise-2/
CATEGORIES:Public Event
END:VEVENT
BEGIN:VEVENT
DTSTART;VALUE=DATE:20240622
DTEND;VALUE=DATE:20240623
DTSTAMP:20260424T220233
CREATED:20240227T200709Z
LAST-MODIFIED:20240227T200709Z
UID:3296-1719014400-1719100799@parmeleefarm.org
SUMMARY:Private Event
DESCRIPTION:
URL:https://parmeleefarm.org/event/private-event-82/
CATEGORIES:Private Event
END:VEVENT
BEGIN:VEVENT
DTSTART;TZID=America/New_York:20240620T160000
DTEND;TZID=America/New_York:20240620T210000
DTSTAMP:20260424T220233
CREATED:20240328T155922Z
LAST-MODIFIED:20240328T155922Z
UID:3330-1718899200-1718917200@parmeleefarm.org
SUMMARY:Youth and Family Community Event
DESCRIPTION:TBD
URL:https://parmeleefarm.org/event/youth-and-family-community-event/
LOCATION:Pavilion
CATEGORIES:Public Event
ORGANIZER;CN="Youth and Family Services":MAILTO:info@hkyfs.org
END:VEVENT
BEGIN:VEVENT
DTSTART;VALUE=DATE:20240615
DTEND;VALUE=DATE:20240616
DTSTAMP:20260424T220233
CREATED:20240227T200643Z
LAST-MODIFIED:20240227T200643Z
UID:3294-1718409600-1718495999@parmeleefarm.org
SUMMARY:Private Event
DESCRIPTION:
URL:https://parmeleefarm.org/event/private-event-81/
CATEGORIES:Private Event
END:VEVENT
BEGIN:VEVENT
DTSTART;TZID=America/New_York:20240609T150000
DTEND;TZID=America/New_York:20240609T190000
DTSTAMP:20260424T220233
CREATED:20240227T200920Z
LAST-MODIFIED:20240531T120739Z
UID:3299-1717945200-1717959600@parmeleefarm.org
SUMMARY:Free Summer Concert & Car Cruise
DESCRIPTION:3-5 pm – Car & Truck Cruise (Front lawn of Farm)\n5-7 pm – Free Concert – (pavilion) The Green Stamps (Band) rock & roll
URL:https://parmeleefarm.org/event/free-summer-concert-car-cruise/
CATEGORIES:Public Event
END:VEVENT
BEGIN:VEVENT
DTSTART;VALUE=DATE:20240602
DTEND;VALUE=DATE:20240603
DTSTAMP:20260424T220233
CREATED:20240328T155406Z
LAST-MODIFIED:20240328T155406Z
UID:3328-1717286400-1717372799@parmeleefarm.org
SUMMARY:Private Party
DESCRIPTION:
URL:https://parmeleefarm.org/event/private-party-12/
LOCATION:Pavilion
CATEGORIES:Private Event
END:VEVENT
BEGIN:VEVENT
DTSTART;TZID=America/New_York:20240530T143000
DTEND;TZID=America/New_York:20240530T170000
DTSTAMP:20260424T220233
CREATED:20240328T155237Z
LAST-MODIFIED:20240328T155237Z
UID:3326-1717079400-1717088400@parmeleefarm.org
SUMMARY:Private Party
DESCRIPTION:
URL:https://parmeleefarm.org/event/private-party-11/
LOCATION:Pavilion
CATEGORIES:Private Event
END:VEVENT
BEGIN:VEVENT
DTSTART;TZID=America/New_York:20240511T083000
DTEND;TZID=America/New_York:20240511T143000
DTSTAMP:20260424T220233
CREATED:20240227T200446Z
LAST-MODIFIED:20240503T125942Z
UID:3290-1715416200-1715437800@parmeleefarm.org
SUMMARY:Historical Society Tag & Bake Sale and Garden Club Sale
DESCRIPTION:The new barn will be filled with lots of treasures.
URL:https://parmeleefarm.org/event/historical-society-tag-bake-sale-and-garden-club-sale/
LOCATION:Farmhouse
CATEGORIES:Historical Society
ORGANIZER;CN="Killingworth Historical Society":MAILTO:killingworthhs@gmail.com
END:VEVENT
BEGIN:VEVENT
DTSTART;VALUE=DATE:20240504
DTEND;VALUE=DATE:20240505
DTSTAMP:20260424T220233
CREATED:20240328T154534Z
LAST-MODIFIED:20240328T154534Z
UID:3322-1714780800-1714867199@parmeleefarm.org
SUMMARY:Private Event
DESCRIPTION:
URL:https://parmeleefarm.org/event/private-event-84/
CATEGORIES:Private Event
END:VEVENT
BEGIN:VEVENT
DTSTART;TZID=America/New_York:20240501T160000
DTEND;TZID=America/New_York:20240501T190000
DTSTAMP:20260424T220233
CREATED:20240328T155200Z
LAST-MODIFIED:20240328T155200Z
UID:3324-1714579200-1714590000@parmeleefarm.org
SUMMARY:Lions Event
DESCRIPTION:
URL:https://parmeleefarm.org/event/lions-event/
LOCATION:Pavilion
CATEGORIES:Killingworth Lions Club
END:VEVENT
BEGIN:VEVENT
DTSTART;TZID=America/New_York:20240330T110000
DTEND;TZID=America/New_York:20240330T120000
DTSTAMP:20260424T220233
CREATED:20240227T195912Z
LAST-MODIFIED:20240322T000750Z
UID:3285-1711796400-1711800000@parmeleefarm.org
SUMMARY:Lions Club Easter Egg Hunt
DESCRIPTION:
URL:https://parmeleefarm.org/event/lions-club-easter-egg-hunt-3/
CATEGORIES:Killingworth Lions Club
END:VEVENT
BEGIN:VEVENT
DTSTART;TZID=America/New_York:20240317T100000
DTEND;TZID=America/New_York:20240317T150000
DTSTAMP:20260424T220233
CREATED:20240311T212349Z
LAST-MODIFIED:20240311T212349Z
UID:3319-1710669600-1710687600@parmeleefarm.org
SUMMARY:Parmelee Farm Sugar House "Maple Weekend Event"
DESCRIPTION:Tours of the Sugar House as well as possible syrup sales & activities
URL:https://parmeleefarm.org/event/parmelee-farm-sugar-house-maple-weekend-event-2/
LOCATION:Sugarhouse
CATEGORIES:Sugar House
END:VEVENT
BEGIN:VEVENT
DTSTART;TZID=America/New_York:20240316T100000
DTEND;TZID=America/New_York:20240316T150000
DTSTAMP:20260424T220233
CREATED:20240311T212307Z
LAST-MODIFIED:20240311T212307Z
UID:3317-1710583200-1710601200@parmeleefarm.org
SUMMARY:Parmelee Farm Sugar House "Maple Weekend Event"
DESCRIPTION:Tours of the Sugar House as well as possible syrup sales & activities
URL:https://parmeleefarm.org/event/parmelee-farm-sugar-house-maple-weekend-event/
LOCATION:Sugarhouse
CATEGORIES:Sugar House
END:VEVENT
BEGIN:VEVENT
DTSTART;TZID=America/New_York:20231202T140000
DTEND;TZID=America/New_York:20231202T170000
DTSTAMP:20260424T220233
CREATED:20231018T142158Z
LAST-MODIFIED:20231018T142307Z
UID:3278-1701525600-1701536400@parmeleefarm.org
SUMMARY:Christmas at the Farm
DESCRIPTION:Christmas at the Farm is making a comeback! Brought to you by the Parmelee Farm Committee and volunteers in our community – This is a completely FREE event and all are welcome. If you’d like to participate in  Stuff a Cruiser\, please consider gift cards for teens besides the children’s toys that are the usual donation. Hope to see you there!
URL:https://parmeleefarm.org/event/christmas-at-the-farm-4/
CATEGORIES:Public Event
END:VEVENT
BEGIN:VEVENT
DTSTART;TZID=America/New_York:20231202T083000
DTEND;TZID=America/New_York:20231202T150000
DTSTAMP:20260424T220233
CREATED:20230305T173754Z
LAST-MODIFIED:20230305T173754Z
UID:3044-1701505800-1701529200@parmeleefarm.org
SUMMARY:Historical Society Christmas Fair
DESCRIPTION:There will be lots of handmade items crafted by our members\, including live arrangements\, baked goods\, holiday decor\, gift items\, knitted accessories\, and more!  All proceeds go towards maintaining our properties and providing programs for members.
URL:https://parmeleefarm.org/event/historical-society-christmas-fair-5/
LOCATION:Farmhouse
CATEGORIES:Historical Society
ORGANIZER;CN="Killingworth Historical Society":MAILTO:killingworthhs@gmail.com
END:VEVENT
BEGIN:VEVENT
DTSTART;TZID=America/New_York:20231022T100000
DTEND;TZID=America/New_York:20231022T150000
DTSTAMP:20260424T220233
CREATED:20231018T141923Z
LAST-MODIFIED:20231018T142336Z
UID:3276-1697968800-1697986800@parmeleefarm.org
SUMMARY:Pumpkin Carving Party - Postponed to Sunday
DESCRIPTION:The chamber’s Killingworth Division is hosting its 10th Annual Pumpkin Carving Party on Saturday\, October 21 Sunday\, October 22 from 12-3pm at Parmelee Farm in Killingworth!\n\n\nAttendees can carve a complimentary pumpkin\, enjoy goodies from The Bread Girl\, and make fall memories with community members!\n\n\nA special thank you to our current sponsors: The Killingworth Lions Club\, Shelly Cumpstone & The Hometown Team of Coldwell Banker Realty\, Jeff Brewer & Pequot Commercial\, and Tim Kearney & Kearney Insurance Agency
URL:https://parmeleefarm.org/event/pumpkin-carving-party-postponed-to-sunday/
CATEGORIES:Public Event
END:VEVENT
BEGIN:VEVENT
DTSTART;VALUE=DATE:20231015
DTEND;VALUE=DATE:20231016
DTSTAMP:20260424T220233
CREATED:20230305T173552Z
LAST-MODIFIED:20230305T173552Z
UID:3042-1697328000-1697414399@parmeleefarm.org
SUMMARY:Private Event
DESCRIPTION:
URL:https://parmeleefarm.org/event/private-event-74/
LOCATION:Pavilion
CATEGORIES:Private Event
END:VEVENT
BEGIN:VEVENT
DTSTART;VALUE=DATE:20231014
DTEND;VALUE=DATE:20231015
DTSTAMP:20260424T220233
CREATED:20230305T173531Z
LAST-MODIFIED:20230305T173531Z
UID:3040-1697241600-1697327999@parmeleefarm.org
SUMMARY:Private Event
DESCRIPTION:
URL:https://parmeleefarm.org/event/private-event-73/
LOCATION:Pavilion
CATEGORIES:Private Event
END:VEVENT
BEGIN:VEVENT
DTSTART;VALUE=DATE:20231007
DTEND;VALUE=DATE:20231008
DTSTAMP:20260424T220233
CREATED:20230305T173511Z
LAST-MODIFIED:20230305T173511Z
UID:3038-1696636800-1696723199@parmeleefarm.org
SUMMARY:Private Event
DESCRIPTION:
URL:https://parmeleefarm.org/event/private-event-72/
CATEGORIES:Private Event
END:VEVENT
BEGIN:VEVENT
DTSTART;VALUE=DATE:20230930
DTEND;VALUE=DATE:20231001
DTSTAMP:20260424T220233
CREATED:20230305T173449Z
LAST-MODIFIED:20230305T173449Z
UID:3036-1696032000-1696118399@parmeleefarm.org
SUMMARY:Private Event
DESCRIPTION:
URL:https://parmeleefarm.org/event/private-event-71/
LOCATION:Pavilion
CATEGORIES:Private Event
END:VEVENT
BEGIN:VEVENT
DTSTART;TZID=America/New_York:20230923T100000
DTEND;TZID=America/New_York:20230924T150000
DTSTAMP:20260424T220233
CREATED:20230821T123302Z
LAST-MODIFIED:20230821T123302Z
UID:3271-1695463200-1695567600@parmeleefarm.org
SUMMARY:Killingworth Historical Society Quilt & Fiber Arts Show
DESCRIPTION:
URL:https://parmeleefarm.org/event/killingworth-historical-society-quilt-fiber-arts-show/
LOCATION:Farmhouse
CATEGORIES:Historical Society
ORGANIZER;CN="Killingworth Historical Society":MAILTO:killingworthhs@gmail.com
END:VEVENT
BEGIN:VEVENT
DTSTART;TZID=America/New_York:20230910T170000
DTEND;TZID=America/New_York:20230910T190000
DTSTAMP:20260424T220233
CREATED:20230710T143020Z
LAST-MODIFIED:20230710T143020Z
UID:3253-1694365200-1694372400@parmeleefarm.org
SUMMARY:Parmelee Free Concert
DESCRIPTION:Rock and Roll Concert
URL:https://parmeleefarm.org/event/parmelee-free-concert-2/
LOCATION:Pavilion
END:VEVENT
BEGIN:VEVENT
DTSTART;TZID=America/New_York:20230910T150000
DTEND;TZID=America/New_York:20230910T170000
DTSTAMP:20260424T220233
CREATED:20230710T142946Z
LAST-MODIFIED:20230710T142946Z
UID:3251-1694358000-1694365200@parmeleefarm.org
SUMMARY:Parmelee Car Cruise
DESCRIPTION:
URL:https://parmeleefarm.org/event/parmelee-car-cruise-2/
END:VEVENT
BEGIN:VEVENT
DTSTART;TZID=America/New_York:20230909T100000
DTEND;TZID=America/New_York:20230909T160000
DTSTAMP:20260424T220233
CREATED:20230305T173411Z
LAST-MODIFIED:20230305T173411Z
UID:3034-1694253600-1694275200@parmeleefarm.org
SUMMARY:Artisan Market
DESCRIPTION:The Artisan Market at Parmelee Farm is a collaborative volunteer effort to create an enjoyable day for the community and provide talented artisans a venue to display and sell their craft. All vendor fees are applied to maintenance and ongoing projects at the farm. Our market is a family friendly environment\, and canine companions are welcome if kept on leash and in owner’s full control.
URL:https://parmeleefarm.org/event/artisan-market-2/
CATEGORIES:Farmers Market
END:VEVENT
BEGIN:VEVENT
DTSTART;TZID=America/New_York:20230827T150000
DTEND;TZID=America/New_York:20230827T170000
DTSTAMP:20260424T220233
CREATED:20230817T202930Z
LAST-MODIFIED:20230817T202957Z
UID:3267-1693148400-1693155600@parmeleefarm.org
SUMMARY:Free Summer Concert
DESCRIPTION:
URL:https://parmeleefarm.org/event/free-summer-concert/
LOCATION:Pavilion
CATEGORIES:Public Event
END:VEVENT
BEGIN:VEVENT
DTSTART;VALUE=DATE:20230819
DTEND;VALUE=DATE:20230820
DTSTAMP:20260424T220233
CREATED:20230305T173301Z
LAST-MODIFIED:20230305T173301Z
UID:3032-1692403200-1692489599@parmeleefarm.org
SUMMARY:Private Event
DESCRIPTION:
URL:https://parmeleefarm.org/event/private-event-70/
CATEGORIES:Private Event
END:VEVENT
BEGIN:VEVENT
DTSTART;TZID=America/New_York:20230813T170000
DTEND;TZID=America/New_York:20230813T190000
DTSTAMP:20260424T220233
CREATED:20230710T142832Z
LAST-MODIFIED:20230710T142832Z
UID:3249-1691946000-1691953200@parmeleefarm.org
SUMMARY:Parmelee Free Concert
DESCRIPTION:Violin and Cello Concert
URL:https://parmeleefarm.org/event/parmelee-free-concert/
LOCATION:Pavilion
CATEGORIES:Public Event
END:VEVENT
BEGIN:VEVENT
DTSTART;TZID=America/New_York:20230813T150000
DTEND;TZID=America/New_York:20230813T170000
DTSTAMP:20260424T220233
CREATED:20230710T142744Z
LAST-MODIFIED:20230710T142744Z
UID:3247-1691938800-1691946000@parmeleefarm.org
SUMMARY:Parmelee Car Cruise
DESCRIPTION:
URL:https://parmeleefarm.org/event/parmelee-car-cruise/
END:VEVENT
END:VCALENDAR