BEGIN:VCALENDAR
VERSION:2.0
PRODID:-//Parmelee Farm - ECPv6.15.20//NONSGML v1.0//EN
CALSCALE:GREGORIAN
METHOD:PUBLISH
X-WR-CALNAME:Parmelee Farm
X-ORIGINAL-URL:https://parmeleefarm.org
X-WR-CALDESC:Events for Parmelee Farm
REFRESH-INTERVAL;VALUE=DURATION:PT1H
X-Robots-Tag:noindex
X-PUBLISHED-TTL:PT1H
BEGIN:VTIMEZONE
TZID:America/New_York
BEGIN:DAYLIGHT
TZOFFSETFROM:-0500
TZOFFSETTO:-0400
TZNAME:EDT
DTSTART:20210314T070000
END:DAYLIGHT
BEGIN:STANDARD
TZOFFSETFROM:-0400
TZOFFSETTO:-0500
TZNAME:EST
DTSTART:20211107T060000
END:STANDARD
BEGIN:DAYLIGHT
TZOFFSETFROM:-0500
TZOFFSETTO:-0400
TZNAME:EDT
DTSTART:20220313T070000
END:DAYLIGHT
BEGIN:STANDARD
TZOFFSETFROM:-0400
TZOFFSETTO:-0500
TZNAME:EST
DTSTART:20221106T060000
END:STANDARD
BEGIN:DAYLIGHT
TZOFFSETFROM:-0500
TZOFFSETTO:-0400
TZNAME:EDT
DTSTART:20230312T070000
END:DAYLIGHT
BEGIN:STANDARD
TZOFFSETFROM:-0400
TZOFFSETTO:-0500
TZNAME:EST
DTSTART:20231105T060000
END:STANDARD
BEGIN:DAYLIGHT
TZOFFSETFROM:-0500
TZOFFSETTO:-0400
TZNAME:EDT
DTSTART:20240310T070000
END:DAYLIGHT
BEGIN:STANDARD
TZOFFSETFROM:-0400
TZOFFSETTO:-0500
TZNAME:EST
DTSTART:20241103T060000
END:STANDARD
END:VTIMEZONE
BEGIN:VEVENT
DTSTART;VALUE=DATE:20231015
DTEND;VALUE=DATE:20231016
DTSTAMP:20260424T234635
CREATED:20230305T173552Z
LAST-MODIFIED:20230305T173552Z
UID:3042-1697328000-1697414399@parmeleefarm.org
SUMMARY:Private Event
DESCRIPTION:
URL:https://parmeleefarm.org/event/private-event-74/
LOCATION:Pavilion
CATEGORIES:Private Event
END:VEVENT
BEGIN:VEVENT
DTSTART;VALUE=DATE:20231014
DTEND;VALUE=DATE:20231015
DTSTAMP:20260424T234635
CREATED:20230305T173531Z
LAST-MODIFIED:20230305T173531Z
UID:3040-1697241600-1697327999@parmeleefarm.org
SUMMARY:Private Event
DESCRIPTION:
URL:https://parmeleefarm.org/event/private-event-73/
LOCATION:Pavilion
CATEGORIES:Private Event
END:VEVENT
BEGIN:VEVENT
DTSTART;VALUE=DATE:20231007
DTEND;VALUE=DATE:20231008
DTSTAMP:20260424T234635
CREATED:20230305T173511Z
LAST-MODIFIED:20230305T173511Z
UID:3038-1696636800-1696723199@parmeleefarm.org
SUMMARY:Private Event
DESCRIPTION:
URL:https://parmeleefarm.org/event/private-event-72/
CATEGORIES:Private Event
END:VEVENT
BEGIN:VEVENT
DTSTART;VALUE=DATE:20230930
DTEND;VALUE=DATE:20231001
DTSTAMP:20260424T234635
CREATED:20230305T173449Z
LAST-MODIFIED:20230305T173449Z
UID:3036-1696032000-1696118399@parmeleefarm.org
SUMMARY:Private Event
DESCRIPTION:
URL:https://parmeleefarm.org/event/private-event-71/
LOCATION:Pavilion
CATEGORIES:Private Event
END:VEVENT
BEGIN:VEVENT
DTSTART;TZID=America/New_York:20230923T100000
DTEND;TZID=America/New_York:20230924T150000
DTSTAMP:20260424T234635
CREATED:20230821T123302Z
LAST-MODIFIED:20230821T123302Z
UID:3271-1695463200-1695567600@parmeleefarm.org
SUMMARY:Killingworth Historical Society Quilt & Fiber Arts Show
DESCRIPTION:
URL:https://parmeleefarm.org/event/killingworth-historical-society-quilt-fiber-arts-show/
LOCATION:Farmhouse
CATEGORIES:Historical Society
ORGANIZER;CN="Killingworth Historical Society":MAILTO:killingworthhs@gmail.com
END:VEVENT
BEGIN:VEVENT
DTSTART;TZID=America/New_York:20230910T170000
DTEND;TZID=America/New_York:20230910T190000
DTSTAMP:20260424T234635
CREATED:20230710T143020Z
LAST-MODIFIED:20230710T143020Z
UID:3253-1694365200-1694372400@parmeleefarm.org
SUMMARY:Parmelee Free Concert
DESCRIPTION:Rock and Roll Concert
URL:https://parmeleefarm.org/event/parmelee-free-concert-2/
LOCATION:Pavilion
END:VEVENT
BEGIN:VEVENT
DTSTART;TZID=America/New_York:20230910T150000
DTEND;TZID=America/New_York:20230910T170000
DTSTAMP:20260424T234635
CREATED:20230710T142946Z
LAST-MODIFIED:20230710T142946Z
UID:3251-1694358000-1694365200@parmeleefarm.org
SUMMARY:Parmelee Car Cruise
DESCRIPTION:
URL:https://parmeleefarm.org/event/parmelee-car-cruise-2/
END:VEVENT
BEGIN:VEVENT
DTSTART;TZID=America/New_York:20230909T100000
DTEND;TZID=America/New_York:20230909T160000
DTSTAMP:20260424T234635
CREATED:20230305T173411Z
LAST-MODIFIED:20230305T173411Z
UID:3034-1694253600-1694275200@parmeleefarm.org
SUMMARY:Artisan Market
DESCRIPTION:The Artisan Market at Parmelee Farm is a collaborative volunteer effort to create an enjoyable day for the community and provide talented artisans a venue to display and sell their craft. All vendor fees are applied to maintenance and ongoing projects at the farm. Our market is a family friendly environment\, and canine companions are welcome if kept on leash and in owner’s full control.
URL:https://parmeleefarm.org/event/artisan-market-2/
CATEGORIES:Farmers Market
END:VEVENT
BEGIN:VEVENT
DTSTART;TZID=America/New_York:20230827T150000
DTEND;TZID=America/New_York:20230827T170000
DTSTAMP:20260424T234635
CREATED:20230817T202930Z
LAST-MODIFIED:20230817T202957Z
UID:3267-1693148400-1693155600@parmeleefarm.org
SUMMARY:Free Summer Concert
DESCRIPTION:
URL:https://parmeleefarm.org/event/free-summer-concert/
LOCATION:Pavilion
CATEGORIES:Public Event
END:VEVENT
BEGIN:VEVENT
DTSTART;VALUE=DATE:20230819
DTEND;VALUE=DATE:20230820
DTSTAMP:20260424T234635
CREATED:20230305T173301Z
LAST-MODIFIED:20230305T173301Z
UID:3032-1692403200-1692489599@parmeleefarm.org
SUMMARY:Private Event
DESCRIPTION:
URL:https://parmeleefarm.org/event/private-event-70/
CATEGORIES:Private Event
END:VEVENT
BEGIN:VEVENT
DTSTART;TZID=America/New_York:20230813T170000
DTEND;TZID=America/New_York:20230813T190000
DTSTAMP:20260424T234635
CREATED:20230710T142832Z
LAST-MODIFIED:20230710T142832Z
UID:3249-1691946000-1691953200@parmeleefarm.org
SUMMARY:Parmelee Free Concert
DESCRIPTION:Violin and Cello Concert
URL:https://parmeleefarm.org/event/parmelee-free-concert/
LOCATION:Pavilion
CATEGORIES:Public Event
END:VEVENT
BEGIN:VEVENT
DTSTART;TZID=America/New_York:20230813T150000
DTEND;TZID=America/New_York:20230813T170000
DTSTAMP:20260424T234635
CREATED:20230710T142744Z
LAST-MODIFIED:20230710T142744Z
UID:3247-1691938800-1691946000@parmeleefarm.org
SUMMARY:Parmelee Car Cruise
DESCRIPTION:
URL:https://parmeleefarm.org/event/parmelee-car-cruise/
END:VEVENT
BEGIN:VEVENT
DTSTART;VALUE=DATE:20230812
DTEND;VALUE=DATE:20230813
DTSTAMP:20260424T234635
CREATED:20230305T173242Z
LAST-MODIFIED:20230305T173242Z
UID:3030-1691798400-1691884799@parmeleefarm.org
SUMMARY:Private Event
DESCRIPTION:
URL:https://parmeleefarm.org/event/private-event-69/
CATEGORIES:Private Event
END:VEVENT
BEGIN:VEVENT
DTSTART;TZID=America/New_York:20230730T170000
DTEND;TZID=America/New_York:20230730T183000
DTSTAMP:20260424T234635
CREATED:20230710T142606Z
LAST-MODIFIED:20230710T142606Z
UID:3245-1690736400-1690741800@parmeleefarm.org
SUMMARY:US Coast Guard Band Concert
DESCRIPTION:The Killingworth & Haddam Lions are hosting its 3rd Annual Free US Coast Guard Band Concert preforming at the Parmelee Farm Pavilion on Sunday\, July 30th starting promptly at 5:00PM. Suggest coming early to set-up your lawn chairs on the picnic area on the south side of the Pavilion. The band members are extremely talented and the Lions are honored to have them perform here in Killingworth. Everyone is welcome from the local community and our friends from neighboring towns. Bring your picnic baskets and enjoy patriotic favorites\, virtuosic concert band classics and swinging Dixieland Jazz. Parking will be limited at the front of the Farm\, however the adjacent HK Middle School Parking Lot is recommended.
URL:https://parmeleefarm.org/event/us-coast-guard-band-concert/
LOCATION:Pavilion
CATEGORIES:Public Event
END:VEVENT
BEGIN:VEVENT
DTSTART;VALUE=DATE:20230722
DTEND;VALUE=DATE:20230723
DTSTAMP:20260424T234635
CREATED:20230305T173214Z
LAST-MODIFIED:20230305T173214Z
UID:3028-1689984000-1690070399@parmeleefarm.org
SUMMARY:Private Event
DESCRIPTION:
URL:https://parmeleefarm.org/event/private-event-68/
LOCATION:Pavilion
CATEGORIES:Private Event
END:VEVENT
BEGIN:VEVENT
DTSTART;TZID=America/New_York:20230721T190000
DTEND;TZID=America/New_York:20230721T203000
DTSTAMP:20260424T234635
CREATED:20230710T142410Z
LAST-MODIFIED:20230710T142410Z
UID:3243-1689966000-1689971400@parmeleefarm.org
SUMMARY:Haddam Killingworth Rec Free Concert
DESCRIPTION:Band is Sideways
URL:https://parmeleefarm.org/event/haddam-killingworth-rec-free-concert/
LOCATION:Pavilion
CATEGORIES:HK Rec Summer Concerts
END:VEVENT
BEGIN:VEVENT
DTSTART;VALUE=DATE:20230625
DTEND;VALUE=DATE:20230626
DTSTAMP:20260424T234635
CREATED:20230428T200131Z
LAST-MODIFIED:20230428T200131Z
UID:3059-1687651200-1687737599@parmeleefarm.org
SUMMARY:Private Event
DESCRIPTION:
URL:https://parmeleefarm.org/event/private-event-77/
CATEGORIES:Private Event
END:VEVENT
BEGIN:VEVENT
DTSTART;VALUE=DATE:20230624
DTEND;VALUE=DATE:20230625
DTSTAMP:20260424T234635
CREATED:20230305T173141Z
LAST-MODIFIED:20230305T173141Z
UID:3026-1687564800-1687651199@parmeleefarm.org
SUMMARY:Private Event
DESCRIPTION:
URL:https://parmeleefarm.org/event/private-event-67/
LOCATION:Pavilion
CATEGORIES:Private Event
END:VEVENT
BEGIN:VEVENT
DTSTART;VALUE=DATE:20230619
DTEND;VALUE=DATE:20230620
DTSTAMP:20260424T234635
CREATED:20230428T200106Z
LAST-MODIFIED:20230428T200106Z
UID:3057-1687132800-1687219199@parmeleefarm.org
SUMMARY:Private Event
DESCRIPTION:
URL:https://parmeleefarm.org/event/private-event-76/
CATEGORIES:Private Event
END:VEVENT
BEGIN:VEVENT
DTSTART;VALUE=DATE:20230618
DTEND;VALUE=DATE:20230619
DTSTAMP:20260424T234635
CREATED:20230428T200026Z
LAST-MODIFIED:20230428T200041Z
UID:3055-1687046400-1687132799@parmeleefarm.org
SUMMARY:Private Event
DESCRIPTION:
URL:https://parmeleefarm.org/event/private-event-75/
CATEGORIES:Private Event
END:VEVENT
BEGIN:VEVENT
DTSTART;VALUE=DATE:20230611
DTEND;VALUE=DATE:20230612
DTSTAMP:20260424T234635
CREATED:20230428T200215Z
LAST-MODIFIED:20230428T200215Z
UID:3061-1686441600-1686527999@parmeleefarm.org
SUMMARY:Private Event
DESCRIPTION:
URL:https://parmeleefarm.org/event/private-event-78/
CATEGORIES:Private Event
END:VEVENT
BEGIN:VEVENT
DTSTART;TZID=America/New_York:20230605T080000
DTEND;TZID=America/New_York:20230605T170000
DTSTAMP:20260424T234635
CREATED:20230428T195951Z
LAST-MODIFIED:20230428T195951Z
UID:3053-1685952000-1685984400@parmeleefarm.org
SUMMARY:Middle School Event
DESCRIPTION:
URL:https://parmeleefarm.org/event/middle-school-event/
CATEGORIES:Private Event
END:VEVENT
BEGIN:VEVENT
DTSTART;VALUE=DATE:20230520
DTEND;VALUE=DATE:20230521
DTSTAMP:20260424T234635
CREATED:20230305T173058Z
LAST-MODIFIED:20230305T173058Z
UID:3024-1684540800-1684627199@parmeleefarm.org
SUMMARY:Private Event
DESCRIPTION:
URL:https://parmeleefarm.org/event/private-event-66/
CATEGORIES:Private Event
END:VEVENT
BEGIN:VEVENT
DTSTART;TZID=America/New_York:20230513T083000
DTEND;TZID=America/New_York:20230513T143000
DTSTAMP:20260424T234635
CREATED:20230305T172937Z
LAST-MODIFIED:20230305T173016Z
UID:3021-1683966600-1683988200@parmeleefarm.org
SUMMARY:Historical Society Annual Spring Tag Sale & Bake Sale
DESCRIPTION:The Historical Society will host their Annual Spring Tag Sale & Bake Sale on Saturday\, May 13th at the Parmelee Farm. The sale will be held from 8:30 am – 2:30pm\, rain or shine. The sale features household items\, tools\, toys and small furniture items. Donations are welcome. Please call 860-663-1308 to arrange times to drop off items.
URL:https://parmeleefarm.org/event/khs-tag-sale/
LOCATION:Farmhouse
CATEGORIES:Historical Society
ORGANIZER;CN="Killingworth Historical Society":MAILTO:killingworthhs@gmail.com
END:VEVENT
BEGIN:VEVENT
DTSTART;VALUE=DATE:20230506
DTEND;VALUE=DATE:20230507
DTSTAMP:20260424T234635
CREATED:20230305T172832Z
LAST-MODIFIED:20230305T172832Z
UID:3019-1683331200-1683417599@parmeleefarm.org
SUMMARY:Private Event
DESCRIPTION:
URL:https://parmeleefarm.org/event/private-event-65/
LOCATION:Pavilion
CATEGORIES:Private Event
END:VEVENT
BEGIN:VEVENT
DTSTART;TZID=America/New_York:20230408T110000
DTEND;TZID=America/New_York:20230408T120000
DTSTAMP:20260424T234635
CREATED:20230305T172707Z
LAST-MODIFIED:20230305T172707Z
UID:3016-1680951600-1680955200@parmeleefarm.org
SUMMARY:Lions Easter Egg Hunt
DESCRIPTION:
URL:https://parmeleefarm.org/event/lions-easter-egg-hunt/
CATEGORIES:Killingworth Lions Club
END:VEVENT
BEGIN:VEVENT
DTSTART;TZID=America/New_York:20230319T100000
DTEND;TZID=America/New_York:20230319T160000
DTSTAMP:20260424T234635
CREATED:20230305T172342Z
LAST-MODIFIED:20230305T172342Z
UID:3014-1679220000-1679241600@parmeleefarm.org
SUMMARY:Maple Weekend
DESCRIPTION:https://www.ctmaple.org/maple-weekend.html
URL:https://parmeleefarm.org/event/maple-weekend-2/
LOCATION:Sugarhouse
CATEGORIES:Sugar House
END:VEVENT
BEGIN:VEVENT
DTSTART;TZID=America/New_York:20230318T100000
DTEND;TZID=America/New_York:20230318T160000
DTSTAMP:20260424T234635
CREATED:20230305T172258Z
LAST-MODIFIED:20230305T172258Z
UID:3011-1679133600-1679155200@parmeleefarm.org
SUMMARY:Maple Weekend
DESCRIPTION:https://www.ctmaple.org/maple-weekend.html \n 
URL:https://parmeleefarm.org/event/maple-weekend/
LOCATION:Sugarhouse
CATEGORIES:Sugar House
END:VEVENT
BEGIN:VEVENT
DTSTART;TZID=America/New_York:20221203T163000
DTEND;TZID=America/New_York:20221203T170000
DTSTAMP:20260424T234635
CREATED:20221202T143130Z
LAST-MODIFIED:20221202T143130Z
UID:3004-1670085000-1670086800@parmeleefarm.org
SUMMARY:Christmas Tree Lighting & Caroling
DESCRIPTION:
URL:https://parmeleefarm.org/event/christmas-tree-lighting-caroling/
END:VEVENT
BEGIN:VEVENT
DTSTART;TZID=America/New_York:20221203T083000
DTEND;TZID=America/New_York:20221203T150000
DTSTAMP:20260424T234635
CREATED:20221107T181334Z
LAST-MODIFIED:20221107T181334Z
UID:2998-1670056200-1670079600@parmeleefarm.org
SUMMARY:Killingworth Historical Society Christmas Fair
DESCRIPTION:
URL:https://parmeleefarm.org/event/killingworth-historical-society-christmas-fair/
LOCATION:Farmhouse
CATEGORIES:Historical Society
ORGANIZER;CN="Killingworth Historical Society":MAILTO:killingworthhs@gmail.com
END:VEVENT
END:VCALENDAR